<?xml version="1.0" encoding="UTF-8" standalone="no"?>
<metadata xml:lang="en">
<Esri>
<CreaDate>20260302</CreaDate>
<CreaTime>16203400</CreaTime>
<ArcGISFormat>1.0</ArcGISFormat>
<SyncOnce>FALSE</SyncOnce>
<DataProperties>
<itemProps>
<itemName Sync="TRUE">CSW_FIRE.FIRE_EXPOSURE_LONG_RSTR</itemName>
<itemLocation>
<linkage Sync="TRUE">Server=cswprod; Service=sde:oracle$cswprod/cswprod; User=csw_fire; Version=SDE.DEFAULT</linkage>
<protocol Sync="TRUE">ArcSDE Connection</protocol>
</itemLocation>
<nativeExtBox>
<westBL Sync="TRUE">28620.000000</westBL>
<eastBL Sync="TRUE">1025310.000000</eastBL>
<southBL Sync="TRUE">591750.000000</southBL>
<northBL Sync="TRUE">1712790.000000</northBL>
<exTypeCode Sync="TRUE">1</exTypeCode>
</nativeExtBox>
<imsContentType export="False">002</imsContentType>
</itemProps>
<coordRef>
<type Sync="TRUE">Projected</type>
<geogcsn Sync="TRUE">GCS_North_American_1983</geogcsn>
<csUnits Sync="TRUE">Linear Unit: Meter (1.000000)</csUnits>
<projcsn Sync="TRUE">NAD_1983_Yukon_Albers</projcsn>
<peXml Sync="TRUE">&lt;ProjectedCoordinateSystem xsi:type='typens:ProjectedCoordinateSystem' xmlns:xsi='http://www.w3.org/2001/XMLSchema-instance' xmlns:xs='http://www.w3.org/2001/XMLSchema' xmlns:typens='http://www.esri.com/schemas/ArcGIS/3.3.0'&gt;&lt;WKT&gt;PROJCS[&amp;quot;NAD_1983_Yukon_Albers&amp;quot;,GEOGCS[&amp;quot;GCS_North_American_1983&amp;quot;,DATUM[&amp;quot;D_North_American_1983&amp;quot;,SPHEROID[&amp;quot;GRS_1980&amp;quot;,6378137.0,298.257222101]],PRIMEM[&amp;quot;Greenwich&amp;quot;,0.0],UNIT[&amp;quot;Degree&amp;quot;,0.0174532925199433]],PROJECTION[&amp;quot;Albers&amp;quot;],PARAMETER[&amp;quot;False_Easting&amp;quot;,500000.0],PARAMETER[&amp;quot;False_Northing&amp;quot;,500000.0],PARAMETER[&amp;quot;Central_Meridian&amp;quot;,-132.5],PARAMETER[&amp;quot;Standard_Parallel_1&amp;quot;,61.66666666666666],PARAMETER[&amp;quot;Standard_Parallel_2&amp;quot;,68.0],PARAMETER[&amp;quot;Latitude_Of_Origin&amp;quot;,59.0],UNIT[&amp;quot;Meter&amp;quot;,1.0],AUTHORITY[&amp;quot;EPSG&amp;quot;,3578]]&lt;/WKT&gt;&lt;XOrigin&gt;-12920200&lt;/XOrigin&gt;&lt;YOrigin&gt;-9265100&lt;/YOrigin&gt;&lt;XYScale&gt;335583644.60816491&lt;/XYScale&gt;&lt;ZOrigin&gt;-100000&lt;/ZOrigin&gt;&lt;ZScale&gt;10000&lt;/ZScale&gt;&lt;MOrigin&gt;-100000&lt;/MOrigin&gt;&lt;MScale&gt;10000&lt;/MScale&gt;&lt;XYTolerance&gt;0.001&lt;/XYTolerance&gt;&lt;ZTolerance&gt;0.00020000000000000001&lt;/ZTolerance&gt;&lt;MTolerance&gt;0.00020000000000000001&lt;/MTolerance&gt;&lt;HighPrecision&gt;true&lt;/HighPrecision&gt;&lt;WKID&gt;3578&lt;/WKID&gt;&lt;LatestWKID&gt;3578&lt;/LatestWKID&gt;&lt;/ProjectedCoordinateSystem&gt;</peXml>
</coordRef>
<RasterProperties>
<General>
<PixelDepth Sync="TRUE">32</PixelDepth>
<HasColormap Sync="TRUE">FALSE</HasColormap>
<CompressionType Sync="TRUE">LZW</CompressionType>
<NumBands Sync="TRUE">1</NumBands>
<Format Sync="TRUE">TIFF</Format>
<HasPyramids Sync="TRUE">TRUE</HasPyramids>
<SourceType Sync="TRUE">continuous</SourceType>
<PixelType Sync="TRUE">floating point</PixelType>
<NoDataValue Sync="TRUE">nan</NoDataValue>
</General>
</RasterProperties>
</DataProperties>
<SyncDate>20260308</SyncDate>
<SyncTime>10150300</SyncTime>
<ModDate>20260308</ModDate>
<ModTime>10424600</ModTime>
<scaleRange>
<minScale>150000000</minScale>
<maxScale>5000</maxScale>
</scaleRange>
<ArcGISProfile>ISO19139</ArcGISProfile>
</Esri>
<mdLang>
<languageCode value="eng"/>
<countryCode Sync="TRUE" value="CAN"/>
</mdLang>
<mdChar>
<CharSetCd value="004"/>
</mdChar>
<mdHrLv>
<ScopeCd value="005"/>
</mdHrLv>
<mdHrLvName>dataset</mdHrLvName>
<mdDateSt Sync="TRUE">20260308</mdDateSt>
<mdStanName>ArcGIS Metadata</mdStanName>
<mdStanVer>1.0</mdStanVer>
<distInfo>
<distTranOps>
<onLineSrc>
<linkage>https://yukon.maps.arcgis.com/home/item.html?id=54cf80a80ff44a9c9715e2cbd1ced764</linkage>
</onLineSrc>
</distTranOps>
<distTranOps>
<onLineSrc>
<linkage>https://map-data.service.yukon.ca/GeoYukon/Emergency_Management/Fire_Exposure_Long/</linkage>
</onLineSrc>
</distTranOps>
<distributor>
<distorCont>
<rpIndName>Geomatics Yukon</rpIndName>
<rpOrgName>Government of Yukon</rpOrgName>
<role>
<RoleCd value="005"/>
</role>
<rpCntInfo>
<cntAddress addressType="">
<eMailAdd>Geomatics.Help@yukon.ca</eMailAdd>
</cntAddress>
</rpCntInfo>
<displayName>Geomatics Yukon</displayName>
<editorSave>False</editorSave>
<displayName>Geomatics Yukon</displayName>
</distorCont>
</distributor>
</distInfo>
<dataIdInfo>
<idCitation>
<resTitle>Fire_Exposure_Raster_Long</resTitle>
<presForm>
<PresFormCd value="005"/>
</presForm>
</idCitation>
<idAbs>&lt;div style='text-align:Left;'&gt;&lt;div&gt;&lt;div&gt;&lt;p style='margin:0 0 0 0;'&gt;&lt;span&gt;These datasets represent the outputs from short and long-range wildfire exposure assessments, which quantify the proportion of surrounding grid cells containing hazardous fuels for a given location. The long-range exposure dataset identifies the number of cells within a 500m radius with the potential to generate embers that could reach that location, while the short-range exposure dataset evaluates the number of cells within a 100m radius with a similar ember-generating potential.&lt;/span&gt;&lt;/p&gt;&lt;p&gt;&lt;p style='margin:0 0 0 0;'&gt;&lt;span&gt;&lt;span&gt;The directional vulnerability datasets assess linear wildfire vulnerability on the landscape in a systematic radial sampling pattern based on intersection with areas of high exposure, indicating the direction and extend of potential wildfire pathways towards a value (communities).&lt;/span&gt;&lt;/span&gt;&lt;/p&gt;&lt;p&gt;&lt;p style='margin:0 0 0 0;'&gt;&lt;span&gt;&lt;span&gt;This dataset was generated using the FireexposuR package for R (&lt;/span&gt;&lt;/span&gt;&lt;a href='https://github.com/ropensci/fireexposuR' style='text-decoration:underline;'&gt;&lt;span style='text-decoration:underline;'&gt;&lt;span&gt;GitHub - ropensci/fireexposuR: Compute and Visualize Wildfire Exposure&lt;/span&gt;&lt;/span&gt;&lt;/a&gt;&lt;span&gt;&lt;span&gt;)&lt;/span&gt;&lt;/span&gt;&lt;/p&gt;&lt;p&gt;&lt;p style='margin:0 0 0 4;'&gt;&lt;span&gt;&lt;span&gt;The short- and long-range exposure datasets were generated using a 2020 LANDSAT land classification dataset. Fire perimeters from between 2020 and 2025 were incorporated into the land classification raster using a mosaic tool. The dataset was then reclassified to values between 0 and 1 to represent the potential for each land cover type to produce embers that travel 100 m (short-range) and 500 m (long-range). The following classification matrices were used. Land cover types marked as 1 indicate the potential to generate embers that travel the required distance, while those marked as 0 indicate no potential to generate embers that travel the required distance:&lt;/span&gt;&lt;/span&gt;&lt;/p&gt;&lt;p&gt;&lt;p style='margin:0 0 0 4;'&gt;&lt;span&gt;&lt;span&gt;Long-Range (500 m) exposure&lt;/span&gt;&lt;/span&gt;&lt;/p&gt;&lt;p style='margin:0 0 0 24;'&gt;&lt;span&gt;&lt;span&gt;1, # Temperate or subpolar needleleaf forest&lt;/span&gt;&lt;/span&gt;&lt;/p&gt;&lt;p style='margin:0 0 0 24;'&gt;&lt;span&gt;&lt;span&gt;1, # Subpolar taiga needleleaf forest&lt;/span&gt;&lt;/span&gt;&lt;/p&gt;&lt;p style='margin:0 0 0 24;'&gt;&lt;span&gt;&lt;span&gt;0, # Temperate or subpolar broadleaf deciduous forest&lt;/span&gt;&lt;/span&gt;&lt;/p&gt;&lt;p style='margin:0 0 0 24;'&gt;&lt;span&gt;&lt;span&gt;1, # Mixed forest&lt;/span&gt;&lt;/span&gt;&lt;/p&gt;&lt;p style='margin:0 0 0 24;'&gt;&lt;span&gt;&lt;span&gt;0, # Shrubland&lt;/span&gt;&lt;/span&gt;&lt;/p&gt;&lt;p style='margin:0 0 0 24;'&gt;&lt;span&gt;&lt;span&gt;0, # Grassland&lt;/span&gt;&lt;/span&gt;&lt;/p&gt;&lt;p style='margin:0 0 0 24;'&gt;&lt;span&gt;&lt;span&gt;0, # Lichen-moss&lt;/span&gt;&lt;/span&gt;&lt;/p&gt;&lt;p style='margin:0 0 0 24;'&gt;&lt;span&gt;&lt;span&gt;0, # Lichen-moss&lt;/span&gt;&lt;/span&gt;&lt;/p&gt;&lt;p style='margin:0 0 0 24;'&gt;&lt;span&gt;&lt;span&gt;0, # Lichen-moss&lt;/span&gt;&lt;/span&gt;&lt;/p&gt;&lt;p style='margin:0 0 0 24;'&gt;&lt;span&gt;&lt;span&gt;0, # Wetland&lt;/span&gt;&lt;/span&gt;&lt;/p&gt;&lt;p style='margin:0 0 0 24;'&gt;&lt;span&gt;&lt;span&gt;0, # Cropland&lt;/span&gt;&lt;/span&gt;&lt;/p&gt;&lt;p style='margin:0 0 0 24;'&gt;&lt;span&gt;&lt;span&gt;0, #Barren Land&lt;/span&gt;&lt;/span&gt;&lt;/p&gt;&lt;p style='margin:0 0 0 24;'&gt;&lt;span&gt;&lt;span&gt;0.5, # Urban and built up&lt;/span&gt;&lt;/span&gt;&lt;/p&gt;&lt;p style='margin:0 0 0 24;'&gt;&lt;span&gt;&lt;span&gt;0, # Water&lt;/span&gt;&lt;/span&gt;&lt;/p&gt;&lt;p style='margin:0 0 0 24;'&gt;&lt;span&gt;&lt;span&gt;0, # Snow and Ice&lt;/span&gt;&lt;/span&gt;&lt;/p&gt;&lt;p style='margin:0 0 0 24;'&gt;&lt;span&gt;&lt;span&gt;0, # Burned&lt;/span&gt;&lt;/span&gt;&lt;/p&gt;&lt;p style='margin:0 0 0 24;'&gt;&lt;span&gt;&lt;span&gt;0, # Fuels Management&lt;/span&gt;&lt;/span&gt;&lt;/p&gt;&lt;p style='margin:0 0 0 24;'&gt;&lt;span&gt;&lt;span&gt;0.3 # FireSmart&lt;/span&gt;&lt;/span&gt;&lt;/p&gt;&lt;p&gt;&lt;p style='margin:0 0 0 4;'&gt;&lt;span&gt;&lt;span&gt;Short-Range (100 m) exposure&lt;/span&gt;&lt;/span&gt;&lt;/p&gt;&lt;p style='text-indent:24;margin:0 0 0 0;'&gt;&lt;span&gt;&lt;span&gt;1, # Temperate or subpolar needleleaf forest&lt;/span&gt;&lt;/span&gt;&lt;/p&gt;&lt;p style='text-indent:24;margin:0 0 0 0;'&gt;&lt;span&gt;&lt;span&gt;1, # Subpolar taiga needleleaf forest&lt;/span&gt;&lt;/span&gt;&lt;/p&gt;&lt;p style='text-indent:24;margin:0 0 0 0;'&gt;&lt;span&gt;&lt;span&gt;1, # Temperate or subpolar broadleaf deciduous forest&lt;/span&gt;&lt;/span&gt;&lt;/p&gt;&lt;p style='text-indent:24;margin:0 0 0 0;'&gt;&lt;span&gt;&lt;span&gt;1, # Mixed forest&lt;/span&gt;&lt;/span&gt;&lt;/p&gt;&lt;p style='text-indent:24;margin:0 0 0 0;'&gt;&lt;span&gt;&lt;span&gt;1, # Shrubland&lt;/span&gt;&lt;/span&gt;&lt;/p&gt;&lt;p style='text-indent:24;margin:0 0 0 0;'&gt;&lt;span&gt;&lt;span&gt;1, # Grassland&lt;/span&gt;&lt;/span&gt;&lt;/p&gt;&lt;p style='text-indent:24;margin:0 0 0 0;'&gt;&lt;span&gt;&lt;span&gt;0, # Lichen-moss&lt;/span&gt;&lt;/span&gt;&lt;/p&gt;&lt;p style='text-indent:24;margin:0 0 0 0;'&gt;&lt;span&gt;&lt;span&gt;0, # Lichen-moss&lt;/span&gt;&lt;/span&gt;&lt;/p&gt;&lt;p style='text-indent:24;margin:0 0 0 0;'&gt;&lt;span&gt;&lt;span&gt;0, # Lichen-moss&lt;/span&gt;&lt;/span&gt;&lt;/p&gt;&lt;p style='text-indent:24;margin:0 0 0 0;'&gt;&lt;span&gt;&lt;span&gt;0, # Wetland&lt;/span&gt;&lt;/span&gt;&lt;/p&gt;&lt;p style='text-indent:24;margin:0 0 0 0;'&gt;&lt;span&gt;&lt;span&gt;0, # Cropland&lt;/span&gt;&lt;/span&gt;&lt;/p&gt;&lt;p style='text-indent:24;margin:0 0 0 0;'&gt;&lt;span&gt;&lt;span&gt;0.5, # Urban and built up&lt;/span&gt;&lt;/span&gt;&lt;/p&gt;&lt;p style='text-indent:24;margin:0 0 0 0;'&gt;&lt;span&gt;&lt;span&gt;0, # Water&lt;/span&gt;&lt;/span&gt;&lt;/p&gt;&lt;p style='margin:0 0 0 24;'&gt;&lt;span&gt;&lt;span&gt;0, # Snow and Ice&lt;/span&gt;&lt;/span&gt;&lt;/p&gt;&lt;p style='margin:0 0 0 24;'&gt;&lt;span&gt;&lt;span&gt;0, # Burned&lt;/span&gt;&lt;/span&gt;&lt;/p&gt;&lt;p style='margin:0 0 0 24;'&gt;&lt;span&gt;&lt;span&gt;0, # Fuels Management&lt;/span&gt;&lt;/span&gt;&lt;/p&gt;&lt;p style='margin:0 0 0 24;'&gt;&lt;span&gt;&lt;span&gt;0.3 # FireSmart&lt;/span&gt;&lt;/span&gt;&lt;/p&gt;&lt;p&gt;&lt;span&gt;Distributed from GeoYukon by the Government of Yukon. Discover more digital map data and interactive maps from Yukon’s digital map data collection.For more information: geomatics.help@yukon.ca&lt;/span&gt;&lt;/p&gt;&lt;/div&gt;&lt;/div&gt;&lt;/div&gt;&lt;/p&gt;&lt;/p&gt;&lt;/p&gt;&lt;/p&gt;&lt;/p&gt;</idAbs>
<idCredit>Canada Centre for Remote Sensing (CCRS)/Canada Centre for Mapping and Earth Observation (CCMEO), Natural Resources Canada (NRCan), Government of Yukon</idCredit>
<resMaint>
<maintFreq>
<MaintFreqCd value="009"/>
</maintFreq>
<usrDefFreq>
<duration>This dataset must be updated on an annual basis to incorporate recent fire behaviour history.</duration>
</usrDefFreq>
</resMaint>
<otherKeys>
<keyword>Yukon</keyword>
<keyword>GeoYukon</keyword>
</otherKeys>
<searchKeys>
<keyword>Exposure</keyword>
<keyword>Wildland Fire</keyword>
<keyword>Fire</keyword>
<keyword>Fuels</keyword>
<keyword>Yukon</keyword>
<keyword>GeoYukon</keyword>
</searchKeys>
<resConst>
<Consts>
<useLimit>&lt;div style='text-align:Left;'&gt;&lt;div&gt;&lt;div&gt;&lt;p&gt;&lt;span&gt;Open Government Licence - Yukon (https://open.yukon.ca/data/open-government-licence-yukon)&lt;/span&gt;&lt;/p&gt;&lt;/div&gt;&lt;/div&gt;&lt;/div&gt;</useLimit>
</Consts>
</resConst>
<spatRpType>
<SpatRepTypCd value="001"/>
</spatRpType>
<dataLang>
<languageCode value="eng"/>
<countryCode Sync="TRUE" value="CAN"/>
</dataLang>
<dataChar>
<CharSetCd value="004"/>
</dataChar>
<envirDesc> Version 6.2 (Build 9200) ; Esri ArcGIS 10.7.1.11595</envirDesc>
<dataExt>
<geoEle>
<GeoBndBox>
<exTypeCode>true</exTypeCode>
<westBL>-135.146092</westBL>
<eastBL>-128.647297</eastBL>
<southBL>60.108855</southBL>
<northBL>61.047158</northBL>
</GeoBndBox>
</geoEle>
</dataExt>
<dataExt>
<geoEle>
<GeoBndBox esriExtentType="search">
<exTypeCode Sync="TRUE">1</exTypeCode>
<westBL Sync="TRUE">-144.588385</westBL>
<eastBL Sync="TRUE">-119.067598</eastBL>
<northBL Sync="TRUE">69.878519</northBL>
<southBL Sync="TRUE">59.479187</southBL>
</GeoBndBox>
</geoEle>
</dataExt>
<idPurp>This dataset includes short- and long-range wildfire exposure rasters and corresponding directional vulnerability vector layers. The exposure rasters quantify the proportion of nearby grid cells with hazardous fuels capable of generating embers within 100 m (short) and 500 m (long) of a given location. The directional vulnerability layers use these exposure surfaces to identify and map potential wildfire pathways towards Yukon communities through systematic radial sampling, highlighting the direction and extend of elevated fire risk. It is important to note that this analysis considers only the spatial distribution of hazardous fuels. It does not incorporate weather, topography, ignition probability, suppression response, or other variables influencing fire behaviour, and therefore should not be interpreted as a comprehensive wildfire risk assessment.</idPurp>
<idPoC>
<rpIndName>Wildland Fire Management</rpIndName>
<rpOrgName>Government of Yukon</rpOrgName>
<role>
<RoleCd value="002"/>
</role>
<rpCntInfo>
<cntAddress addressType="">
<eMailAdd>CS-PS-WFM-FIRE-MAPPING@yukon.ca</eMailAdd>
</cntAddress>
</rpCntInfo>
<displayName>Wildland Fire Management</displayName>
</idPoC>
<idPoC>
<rpIndName>Geomatics Yukon</rpIndName>
<rpOrgName>Government of Yukon</rpOrgName>
<role>
<RoleCd value="005"/>
</role>
<rpCntInfo>
<cntAddress addressType="">
<eMailAdd>Geomatics.Help@yukon.ca</eMailAdd>
</cntAddress>
</rpCntInfo>
<displayName>Geomatics Yukon</displayName>
</idPoC>
<tpCat>
<TopicCatCd value="007"/>
</tpCat>
</dataIdInfo>
<spatRepInfo>
<VectSpatRep>
<topLvl>
<TopoLevCd value="001"/>
</topLvl>
<geometObjs>
<geoObjTyp>
<GeoObjTypCd value="002"/>
</geoObjTyp>
<geoObjCnt>15</geoObjCnt>
</geometObjs>
</VectSpatRep>
</spatRepInfo>
<refSysInfo>
<RefSystem dimension="">
<refSysID>
<identCode code="0"/>
<idCodeSpace Sync="TRUE">EPSG</idCodeSpace>
<idVersion Sync="TRUE">6.13(9.3.0.0)</idVersion>
</refSysID>
</RefSystem>
</refSysInfo>
<spdoinfo>
<rastinfo>
<rasttype Sync="TRUE">Pixel</rasttype>
<rowcount Sync="TRUE">37368</rowcount>
<colcount Sync="TRUE">33223</colcount>
<rastxsz Sync="TRUE">30.000000</rastxsz>
<rastysz Sync="TRUE">30.000000</rastysz>
<rastbpp Sync="TRUE">32</rastbpp>
<vrtcount Sync="TRUE">1</vrtcount>
<rastorig Sync="TRUE">Upper Left</rastorig>
<rastcmap Sync="TRUE">FALSE</rastcmap>
<rastcomp Sync="TRUE">LZ77</rastcomp>
<rastband Sync="TRUE">1</rastband>
<rastdtyp Sync="TRUE">pixel codes</rastdtyp>
<rastifor Sync="TRUE">SDR</rastifor>
<rastplyr Sync="TRUE">TRUE</rastplyr>
</rastinfo>
</spdoinfo>
<spref>
<horizsys>
<planar>
<planci>
<plance Sync="TRUE">row and column</plance>
<coordrep>
<absres Sync="TRUE">30.000000</absres>
<ordres Sync="TRUE">30.000000</ordres>
</coordrep>
</planci>
</planar>
</horizsys>
</spref>
<mdContact>
<rpIndName>Wildland Fire Management</rpIndName>
<rpOrgName>Government of Yukon</rpOrgName>
<role>
<RoleCd value="002"/>
</role>
<rpCntInfo>
<cntAddress addressType="">
<eMailAdd>CS-PS-WFM-FIRE-MAPPING@yukon.ca</eMailAdd>
</cntAddress>
</rpCntInfo>
</mdContact>
<mdContact>
<rpIndName>Geomatics Yukon</rpIndName>
<rpOrgName>Government of Yukon</rpOrgName>
<role>
<RoleCd value="005"/>
</role>
<rpCntInfo>
<cntAddress addressType="">
<eMailAdd>Geomatics.Help@yukon.ca</eMailAdd>
</cntAddress>
</rpCntInfo>
</mdContact>
<mdMaint>
<maintFreq>
<MaintFreqCd value="009"/>
</maintFreq>
</mdMaint>
</metadata>
