{ "currentVersion": 11.3, "serviceDescription": "

These datasets represent the outputs from short and long-range wildfire exposure assessments, which quantify the proportion of surrounding grid cells containing hazardous fuels for a given location. The long-range exposure dataset identifies the number of cells within a 500m radius with the potential to generate embers that could reach that location, while the short-range exposure dataset evaluates the number of cells within a 100m radius with a similar ember-generating potential.<\/SPAN><\/P>
The directional vulnerability datasets assess linear wildfire vulnerability on the landscape in a systematic radial sampling pattern based on intersection with areas of high exposure, indicating the direction and extend of potential wildfire pathways towards a value (communities).<\/SPAN><\/SPAN><\/P>
This dataset was generated using the FireexposuR package for R (<\/SPAN><\/SPAN>GitHub - ropensci/fireexposuR: Compute and Visualize Wildfire Exposure<\/SPAN><\/SPAN><\/A>)<\/SPAN><\/SPAN><\/P>
The short- and long-range exposure datasets were generated using a 2020 LANDSAT land classification dataset. Fire perimeters from between 2020 and 2025 were incorporated into the land classification raster using a mosaic tool. The dataset was then reclassified to values between 0 and 1 to represent the potential for each land cover type to produce embers that travel 100 m (short-range) and 500 m (long-range). The following classification matrices were used. Land cover types marked as 1 indicate the potential to generate embers that travel the required distance, while those marked as 0 indicate no potential to generate embers that travel the required distance:<\/SPAN><\/SPAN><\/P>
Long-Range (500 m) exposure<\/SPAN><\/SPAN><\/P>
1, # Temperate or subpolar needleleaf forest<\/SPAN><\/SPAN><\/P>
1, # Subpolar taiga needleleaf forest<\/SPAN><\/SPAN><\/P>
0, # Temperate or subpolar broadleaf deciduous forest<\/SPAN><\/SPAN><\/P>
1, # Mixed forest<\/SPAN><\/SPAN><\/P>
0, # Shrubland<\/SPAN><\/SPAN><\/P>
0, # Grassland<\/SPAN><\/SPAN><\/P>
0, # Lichen-moss<\/SPAN><\/SPAN><\/P>
0, # Lichen-moss<\/SPAN><\/SPAN><\/P>
0, # Lichen-moss<\/SPAN><\/SPAN><\/P>
0, # Wetland<\/SPAN><\/SPAN><\/P>
0, # Cropland<\/SPAN><\/SPAN><\/P>
0, #Barren Land<\/SPAN><\/SPAN><\/P>
0.5, # Urban and built up<\/SPAN><\/SPAN><\/P>
0, # Water<\/SPAN><\/SPAN><\/P>
0, # Snow and Ice<\/SPAN><\/SPAN><\/P>
0, # Burned<\/SPAN><\/SPAN><\/P>
0, # Fuels Management<\/SPAN><\/SPAN><\/P>
0.3 # FireSmart<\/SPAN><\/SPAN><\/P>
Short-Range (100 m) exposure<\/SPAN><\/SPAN><\/P>
1, # Temperate or subpolar needleleaf forest<\/SPAN><\/SPAN><\/P>
1, # Subpolar taiga needleleaf forest<\/SPAN><\/SPAN><\/P>
1, # Temperate or subpolar broadleaf deciduous forest<\/SPAN><\/SPAN><\/P>
1, # Mixed forest<\/SPAN><\/SPAN><\/P>
1, # Shrubland<\/SPAN><\/SPAN><\/P>
1, # Grassland<\/SPAN><\/SPAN><\/P>
0, # Lichen-moss<\/SPAN><\/SPAN><\/P>
0, # Lichen-moss<\/SPAN><\/SPAN><\/P>
0, # Lichen-moss<\/SPAN><\/SPAN><\/P>
0, # Wetland<\/SPAN><\/SPAN><\/P>
0, # Cropland<\/SPAN><\/SPAN><\/P>
0.5, # Urban and built up<\/SPAN><\/SPAN><\/P>
0, # Water<\/SPAN><\/SPAN><\/P>
0, # Snow and Ice<\/SPAN><\/SPAN><\/P>
0, # Burned<\/SPAN><\/SPAN><\/P>
0, # Fuels Management<\/SPAN><\/SPAN><\/P>
0.3 # FireSmart<\/SPAN><\/SPAN><\/P>
Distributed from GeoYukon by the Government of Yukon. Discover more digital map data and interactive maps from Yukon\u2019s digital map data collection.For more information: geomatics.help@yukon.ca<\/SPAN><\/P><\/DIV><\/DIV><\/DIV>", "name": "WildfireInformation/Fire_Exposure_Raster_Short", "description": "

These datasets represent the outputs from short and long-range wildfire exposure assessments, which quantify the proportion of surrounding grid cells containing hazardous fuels for a given location. The long-range exposure dataset identifies the number of cells within a 500m radius with the potential to generate embers that could reach that location, while the short-range exposure dataset evaluates the number of cells within a 100m radius with a similar ember-generating potential.<\/SPAN><\/P>
The directional vulnerability datasets assess linear wildfire vulnerability on the landscape in a systematic radial sampling pattern based on intersection with areas of high exposure, indicating the direction and extend of potential wildfire pathways towards a value (communities).<\/SPAN><\/SPAN><\/P>
This dataset was generated using the FireexposuR package for R (<\/SPAN><\/SPAN>GitHub - ropensci/fireexposuR: Compute and Visualize Wildfire Exposure<\/SPAN><\/SPAN><\/A>)<\/SPAN><\/SPAN><\/P>
The short- and long-range exposure datasets were generated using a 2020 LANDSAT land classification dataset. Fire perimeters from between 2020 and 2025 were incorporated into the land classification raster using a mosaic tool. The dataset was then reclassified to values between 0 and 1 to represent the potential for each land cover type to produce embers that travel 100 m (short-range) and 500 m (long-range). The following classification matrices were used. Land cover types marked as 1 indicate the potential to generate embers that travel the required distance, while those marked as 0 indicate no potential to generate embers that travel the required distance:<\/SPAN><\/SPAN><\/P>
Long-Range (500 m) exposure<\/SPAN><\/SPAN><\/P>
1, # Temperate or subpolar needleleaf forest<\/SPAN><\/SPAN><\/P>
1, # Subpolar taiga needleleaf forest<\/SPAN><\/SPAN><\/P>
0, # Temperate or subpolar broadleaf deciduous forest<\/SPAN><\/SPAN><\/P>
1, # Mixed forest<\/SPAN><\/SPAN><\/P>
0, # Shrubland<\/SPAN><\/SPAN><\/P>
0, # Grassland<\/SPAN><\/SPAN><\/P>
0, # Lichen-moss<\/SPAN><\/SPAN><\/P>
0, # Lichen-moss<\/SPAN><\/SPAN><\/P>
0, # Lichen-moss<\/SPAN><\/SPAN><\/P>
0, # Wetland<\/SPAN><\/SPAN><\/P>
0, # Cropland<\/SPAN><\/SPAN><\/P>
0, #Barren Land<\/SPAN><\/SPAN><\/P>
0.5, # Urban and built up<\/SPAN><\/SPAN><\/P>
0, # Water<\/SPAN><\/SPAN><\/P>
0, # Snow and Ice<\/SPAN><\/SPAN><\/P>
0, # Burned<\/SPAN><\/SPAN><\/P>
0, # Fuels Management<\/SPAN><\/SPAN><\/P>
0.3 # FireSmart<\/SPAN><\/SPAN><\/P>
Short-Range (100 m) exposure<\/SPAN><\/SPAN><\/P>
1, # Temperate or subpolar needleleaf forest<\/SPAN><\/SPAN><\/P>
1, # Subpolar taiga needleleaf forest<\/SPAN><\/SPAN><\/P>
1, # Temperate or subpolar broadleaf deciduous forest<\/SPAN><\/SPAN><\/P>
1, # Mixed forest<\/SPAN><\/SPAN><\/P>
1, # Shrubland<\/SPAN><\/SPAN><\/P>
1, # Grassland<\/SPAN><\/SPAN><\/P>
0, # Lichen-moss<\/SPAN><\/SPAN><\/P>
0, # Lichen-moss<\/SPAN><\/SPAN><\/P>
0, # Lichen-moss<\/SPAN><\/SPAN><\/P>
0, # Wetland<\/SPAN><\/SPAN><\/P>
0, # Cropland<\/SPAN><\/SPAN><\/P>
0.5, # Urban and built up<\/SPAN><\/SPAN><\/P>
0, # Water<\/SPAN><\/SPAN><\/P>
0, # Snow and Ice<\/SPAN><\/SPAN><\/P>
0, # Burned<\/SPAN><\/SPAN><\/P>
0, # Fuels Management<\/SPAN><\/SPAN><\/P>
0.3 # FireSmart<\/SPAN><\/SPAN><\/P>
Distributed from GeoYukon by the Government of Yukon. Discover more digital map data and interactive maps from Yukon\u2019s digital map data collection.For more information: geomatics.help@yukon.ca<\/SPAN><\/P><\/DIV><\/DIV><\/DIV>", "extent": { "xmin": 28620, "ymin": 591750, "xmax": 1025310, "ymax": 1712790, "spatialReference": { "wkid": 3578, "latestWkid": 3578 } }, "initialExtent": { "xmin": 28620, "ymin": 591750, "xmax": 1025310, "ymax": 1712790, "spatialReference": { "wkid": 3578, "latestWkid": 3578 } }, "fullExtent": { "xmin": 28620, "ymin": 591750, "xmax": 1025310, "ymax": 1712790, "spatialReference": { "wkid": 3578, "latestWkid": 3578 } }, "sortableFields": "", "bandCount": 1, "pixelType": "F32", "minValues": [ 0 ], "maxValues": [ 1 ], "meanValues": [ 0.7115135813910984 ], "stdvValues": [ 0.39063614414767095 ], "hasMultidimensions": false, "pixelSizeX": 30, "pixelSizeY": 30, "meanPixelSize": 30, "datasetFormat": "FGDBR", "uncompressedSize": 4965908256, "blockWidth": 128, "blockHeight": 128, "compressionType": "LZ77", "bandNames": [ "Band_1" ], "allowCopy": true, "allowAnalysis": true, "itemAccess": false, "inspectionCapabilities": "", "minPixelSize": 0, "maxPixelSize": 0, "copyrightText": "Canada Centre for Remote Sensing (CCRS)/Canada Centre for Mapping and Earth Observation (CCMEO), Natural Resources Canada (NRCan), Government of Yukon", "serviceDataType": "esriImageServiceDataTypeGeneric", "serviceSourceType": "esriImageServiceSourceTypeDataset", "objectIdField": "", "fields": [], "capabilities": "Image,Metadata,Mensuration", "defaultMosaicMethod": "Center", "allowedMosaicMethods": "", "sortField": "", "sortValue": null, "sortAscending": true, "mosaicOperator": "First", "defaultCompressionQuality": 75, "defaultResamplingMethod": "Bilinear", "maxImageHeight": 4100, "maxImageWidth": 15000, "allowRasterFunction": true, "rasterFunctionInfos": [ { "name": "None", "description": "", "help": "" } ], "rasterTypeInfos": [ { "name": "Raster Dataset", "description": "Supports all ArcGIS Raster Datasets", "help": "" } ], "mensurationCapabilities": "Basic", "hasHistograms": true, "hasColormap": false, "hasRasterAttributeTable": false, "minScale": 0, "maxScale": 0, "exportTilesAllowed": false, "supportsStatistics": false, "supportsAdvancedQueries": false, "editFieldsInfo": null, "ownershipBasedAccessControlForRasters": null, "allowComputeTiePoints": false, "useStandardizedQueries": true, "advancedQueryCapabilities": { "useStandardizedQueries": true, "supportsStatistics": false, "supportsOrderBy": false, "supportsDistinct": false, "supportsPagination": false }, "spatialReference": { "wkid": 3578, "latestWkid": 3578 } }